BEGIN:VCALENDAR
VERSION:2.0
PRODID:SchoolNow
CALSCALE:GREGORIAN
BEGIN:VEVENT
UID:c8e1d852-38fe-11f1-a49a-0e2cb06fedc5
DTSTAMP:20260420T084037Z
SUMMARY:COED Varsity Scholastic Bowl OPEN NAQT State/ Chicago TBA
URL;VALUE=URI:https://www.piasabirds.net/calendar/8995973/coed-varsity-scho
 lastic-bowl-open-naqt-state-chicago-tba
DTSTART;VALUE=DATE:20260425
DTEND;VALUE=DATE:20260426
END:VEVENT
END:VCALENDAR
