BEGIN:VCALENDAR
VERSION:2.0
PRODID:SchoolNow
CALSCALE:GREGORIAN
BEGIN:VEVENT
UID:c8e1d960-38fe-11f1-a97a-0e2cb06fedc5
DTSTAMP:20260421T090044Z
SUMMARY:COED Varsity Track vs Carlyle HS Boys Only
URL;VALUE=URI:https://www.piasabirds.net/calendar/8995974/coed-varsity-trac
 k-vs-carlyle-hs-boys-only
DTSTART:20260425T140000Z
DTEND:20260425T143000Z
END:VEVENT
END:VCALENDAR
