BEGIN:VCALENDAR
VERSION:2.0
PRODID:SchoolNow
CALSCALE:GREGORIAN
BEGIN:VEVENT
UID:828f9706-3e92-11f1-b82f-0a58a9feac02
DTSTAMP:20260422T213040Z
SUMMARY:Boys Varsity Baseball vs Maryville Christian School
URL;VALUE=URI:https://www.piasabirds.net/calendar/9011787/boys-varsity-base
 ball-vs-maryville-christian-school
DTSTART:20260427T213000Z
DTEND:20260427T220000Z
END:VEVENT
END:VCALENDAR
